BEGIN:VCALENDAR
VERSION:2.0
PRODID:-//Biblioasis - ECPv6.15.20//NONSGML v1.0//EN
CALSCALE:GREGORIAN
METHOD:PUBLISH
X-ORIGINAL-URL:https://www.biblioasis.com
X-WR-CALDESC:Events for Biblioasis
REFRESH-INTERVAL;VALUE=DURATION:PT1H
X-Robots-Tag:noindex
X-PUBLISHED-TTL:PT1H
BEGIN:VTIMEZONE
TZID:America/Toronto
BEGIN:DAYLIGHT
TZOFFSETFROM:-0500
TZOFFSETTO:-0400
TZNAME:EDT
DTSTART:20230312T070000
END:DAYLIGHT
BEGIN:STANDARD
TZOFFSETFROM:-0400
TZOFFSETTO:-0500
TZNAME:EST
DTSTART:20231105T060000
END:STANDARD
BEGIN:DAYLIGHT
TZOFFSETFROM:-0500
TZOFFSETTO:-0400
TZNAME:EDT
DTSTART:20240310T070000
END:DAYLIGHT
BEGIN:STANDARD
TZOFFSETFROM:-0400
TZOFFSETTO:-0500
TZNAME:EST
DTSTART:20241103T060000
END:STANDARD
BEGIN:DAYLIGHT
TZOFFSETFROM:-0500
TZOFFSETTO:-0400
TZNAME:EDT
DTSTART:20250309T070000
END:DAYLIGHT
BEGIN:STANDARD
TZOFFSETFROM:-0400
TZOFFSETTO:-0500
TZNAME:EST
DTSTART:20251102T060000
END:STANDARD
END:VTIMEZONE
BEGIN:VEVENT
DTSTART;TZID=America/Toronto:20240930T190000
DTEND;TZID=America/Toronto:20240930T210000
DTSTAMP:20260422T062711
CREATED:20240910T183947Z
LAST-MODIFIED:20240920T142805Z
UID:34044-1727722800-1727730000@www.biblioasis.com
SUMMARY:The Notebook: Windsor Launch
DESCRIPTION:Join us at Biblioasis Bookshop for the North American launch of Roland Allen‘s The Notebook (Sep 3\, 2024)! Roland Allen will be appearing and reading from his new book on the history of the notebook\, followed by a discussion and audience Q&A. Books will be available for sale and signing\, and refreshments will be provided. \nThe launch will take place on Monday\, September 30 at 7PM. \nMore details here. \nGrab your copy of The Notebook here! \nABOUT THE NOTEBOOK \nA Kirkus Most Anticipated Book of Fall 2024 \nThe first history of the notebook\, a simple invention that changed the way the world thinks. \nWe see notebooks everywhere we go. But where did these indispensable implements come from? How did they revolutionize our lives? And how can using a notebook help change the way you think? In this wide-ranging history\, Roland Allen reveals how the notebook became our most dependable and versatile tool for creative thinking. He tells the notebook stories of Leonardo and Frida Kahlo\, Isaac Newton and Marie Curie\, and writers from Chaucer to Henry James; shows how Darwin developed his theory of evolution in tiny pocket books and Agatha Christie plotted a hundred murders in scrappy exercise books; and introduces a host of cooks\, kings\, sailors\, fishermen\, musicians\, engineers\, politicians\, adventurers\, and mathematicians\, all of whom used their notebooks as a space to think—and in doing so\, shaped the modern world. \nIn an age of AI and digital overload\, the humble notebook is more relevant than ever. Allen shows how bullet points can combat ADHD\, journals can ease PTSD\, and patient diaries soften the trauma of reawakening from coma. The everyday act of moving a pen across paper\, he finds\, can have profound consequences\, changing the way we think and feel: making us more creative\, more productive—and maybe even happier. \nABOUT ROLAND ALLEN \nRoland Allen lives in Brighton. He studied at Manchester University and works in book (and notebook) publishing. He has written books on bicycles and bread\, has kept a diary for decades\, and enjoys stationery a little too much.
URL:https://www.biblioasis.com/event/the-notebook-windsor-launch/
LOCATION:Biblioasis Bookshop\, 1520 Wyandotte St E\, Windsor\, ON\, N9A 3L2\, Canada
CATEGORIES:Book Launch
ATTACH;FMTTYPE=image/jpeg:https://www.biblioasis.com/wp-content/uploads/2024/09/ALLEN-POSTER-V.1.jpg
END:VEVENT
END:VCALENDAR