BEGIN:VCALENDAR
VERSION:2.0
PRODID:-//Biblioasis - ECPv6.15.20//NONSGML v1.0//EN
CALSCALE:GREGORIAN
METHOD:PUBLISH
X-ORIGINAL-URL:https://www.biblioasis.com
X-WR-CALDESC:Events for Biblioasis
REFRESH-INTERVAL;VALUE=DURATION:PT1H
X-Robots-Tag:noindex
X-PUBLISHED-TTL:PT1H
BEGIN:VTIMEZONE
TZID:America/Toronto
BEGIN:DAYLIGHT
TZOFFSETFROM:-0500
TZOFFSETTO:-0400
TZNAME:EDT
DTSTART:20240310T070000
END:DAYLIGHT
BEGIN:STANDARD
TZOFFSETFROM:-0400
TZOFFSETTO:-0500
TZNAME:EST
DTSTART:20241103T060000
END:STANDARD
BEGIN:DAYLIGHT
TZOFFSETFROM:-0500
TZOFFSETTO:-0400
TZNAME:EDT
DTSTART:20250309T070000
END:DAYLIGHT
BEGIN:STANDARD
TZOFFSETFROM:-0400
TZOFFSETTO:-0500
TZNAME:EST
DTSTART:20251102T060000
END:STANDARD
BEGIN:DAYLIGHT
TZOFFSETFROM:-0500
TZOFFSETTO:-0400
TZNAME:EDT
DTSTART:20260308T070000
END:DAYLIGHT
BEGIN:STANDARD
TZOFFSETFROM:-0400
TZOFFSETTO:-0500
TZNAME:EST
DTSTART:20261101T060000
END:STANDARD
END:VTIMEZONE
BEGIN:VTIMEZONE
TZID:America/Vancouver
BEGIN:DAYLIGHT
TZOFFSETFROM:-0800
TZOFFSETTO:-0700
TZNAME:PDT
DTSTART:20240310T100000
END:DAYLIGHT
BEGIN:STANDARD
TZOFFSETFROM:-0700
TZOFFSETTO:-0800
TZNAME:PST
DTSTART:20241103T090000
END:STANDARD
BEGIN:DAYLIGHT
TZOFFSETFROM:-0800
TZOFFSETTO:-0700
TZNAME:PDT
DTSTART:20250309T100000
END:DAYLIGHT
BEGIN:STANDARD
TZOFFSETFROM:-0700
TZOFFSETTO:-0800
TZNAME:PST
DTSTART:20251102T090000
END:STANDARD
BEGIN:DAYLIGHT
TZOFFSETFROM:-0800
TZOFFSETTO:-0700
TZNAME:PDT
DTSTART:20260308T100000
END:DAYLIGHT
BEGIN:STANDARD
TZOFFSETFROM:-0700
TZOFFSETTO:-0800
TZNAME:PST
DTSTART:20261101T090000
END:STANDARD
END:VTIMEZONE
BEGIN:VEVENT
DTSTART;TZID=America/Toronto:20250405T070000
DTEND;TZID=America/Toronto:20250405T210000
DTSTAMP:20260421T085107
CREATED:20250310T195739Z
LAST-MODIFIED:20250328T191635Z
UID:35712-1743836400-1743886800@www.biblioasis.com
SUMMARY:Ripper: Ottawa Launch
DESCRIPTION:Join us in Ottawa for the launch of Mark Bourrie‘s Ripper: The Making of Pierre Poilievre! Mark will be reading from his new book\, along with a discussion with host Sean Wilson. Books will be available for sale and signing\, courtesy of Perfect Books. \nThe launch will take place at St. John the Evangelist Church on Saturday\, April 5 at 7PM. \nOrder a copy of Ripper here! \nABOUT RIPPER \nAs Canada heads towards a pivotal election\, bestselling author Mark Bourrie charts the rise of Opposition leader Pierre Poilievre and considers the history and potential cost of the politics of division. \nSix weeks into the Covid pandemic\, New York Times columnist David Brooks identified two types of Western politicians: rippers and weavers. Rippers\, whether on the right or the left\, see politics as war. They don’t care about the destruction that’s caused as they fight for power. Weavers are their opposite: people who try to fix things\, who want to bring people together and try to build consensus. At the beginning of the pandemic\, weavers seemed to be winning. Five years later\, as Canada heads towards a pivotal election\, that’s no longer the case. Across the border\, a ripper is remaking the American government. And for the first time in its history\, Canada has its own ripper poised to assume power. \nPierre Poilievre has enjoyed most of the advantages of the mainstream Canadian middle class. Yet he’s long been the angriest man on the political stage. In Ripper: The Making of Pierre Poilievre\, bestselling author Mark Bourrie\, winner of the Charles Taylor Prize\, charts Poilievre’s rise through the political system\, from teenage volunteer to outspoken Opposition leader known for cutting soundbites and theatrics. Bourrie shows how we arrived at this divisive moment in our history\, one in which rippers are poised to capitalize on conflict. He shows how Poilievre and this new style of politics have gained so much ground—and warns of what it will cost us if they succeed. \nABOUT MARK BOURRIE \nMark Bourrie is an Ottawa-based author\, lawyer\, and journalist. He holds a master’s in journalism from Carleton University and a PhD in history from the University of Ottawa. In 2017\, he was awarded a Juris Doctor degree and was called to the bar in 2018. He has won numerous awards for his journalism\, including a National Magazine Award\, and received the RBC Charles Taylor Prize in 2020 for his book Bush Runner: The Adventures of Pierre-Esprit Radisson. His most recent books include Big Men Fear Me: The Fast Life and Quick Death of Canada’s Most Powerful Media Mogul\, and the national bestseller Crosses in the Sky: Jean de Brébeuf and the Destruction of Huronia.
URL:https://www.biblioasis.com/event/ripper-ottawa-launch/
LOCATION:St. John the Evangelist\, 154 Somerset Street West\, Ottawa\, ON\, K2P 0H8\, Canada
CATEGORIES:Book Launch,Reading
ATTACH;FMTTYPE=image/jpeg:https://www.biblioasis.com/wp-content/uploads/2025/02/9781771967006_FC.jpg
END:VEVENT
BEGIN:VEVENT
DTSTART;TZID=America/Vancouver:20250410T183000
DTEND;TZID=America/Vancouver:20250410T200000
DTSTAMP:20260421T085107
CREATED:20250310T201018Z
LAST-MODIFIED:20250310T201018Z
UID:35717-1744309800-1744315200@www.biblioasis.com
SUMMARY:Ripper: Virtual Talk with Mark Bourrie & The Tyee
DESCRIPTION:Mark Bourrie\, author of Ripper: The Making of Pierre Poilievre\, will be interviewed by David Beers\, founding editor of The Tyee\, for this special online author talk hosted by Upstart & Crow. \nThe launch will take place on Zoom on Thursday\, April 10 at 6:30PM PST / 9:30PM EST. \nTicket options and more details here. \nOrder a copy of Ripper here! \nABOUT RIPPER \nAs Canada heads towards a pivotal election\, bestselling author Mark Bourrie charts the rise of Opposition leader Pierre Poilievre and considers the history and potential cost of the politics of division. \nSix weeks into the Covid pandemic\, New York Times columnist David Brooks identified two types of Western politicians: rippers and weavers. Rippers\, whether on the right or the left\, see politics as war. They don’t care about the destruction that’s caused as they fight for power. Weavers are their opposite: people who try to fix things\, who want to bring people together and try to build consensus. At the beginning of the pandemic\, weavers seemed to be winning. Five years later\, as Canada heads towards a pivotal election\, that’s no longer the case. Across the border\, a ripper is remaking the American government. And for the first time in its history\, Canada has its own ripper poised to assume power. \nPierre Poilievre has enjoyed most of the advantages of the mainstream Canadian middle class. Yet he’s long been the angriest man on the political stage. In Ripper: The Making of Pierre Poilievre\, bestselling author Mark Bourrie\, winner of the Charles Taylor Prize\, charts Poilievre’s rise through the political system\, from teenage volunteer to outspoken Opposition leader known for cutting soundbites and theatrics. Bourrie shows how we arrived at this divisive moment in our history\, one in which rippers are poised to capitalize on conflict. He shows how Poilievre and this new style of politics have gained so much ground—and warns of what it will cost us if they succeed. \nABOUT MARK BOURRIE \nMark Bourrie is an Ottawa-based author\, lawyer\, and journalist. He holds a master’s in journalism from Carleton University and a PhD in history from the University of Ottawa. In 2017\, he was awarded a Juris Doctor degree and was called to the bar in 2018. He has won numerous awards for his journalism\, including a National Magazine Award\, and received the RBC Charles Taylor Prize in 2020 for his book Bush Runner: The Adventures of Pierre-Esprit Radisson. His most recent books include Big Men Fear Me: The Fast Life and Quick Death of Canada’s Most Powerful Media Mogul\, and the national bestseller Crosses in the Sky: Jean de Brébeuf and the Destruction of Huronia.
URL:https://www.biblioasis.com/event/ripper-virtual-launch/
LOCATION:ON
CATEGORIES:Book Launch,Discussion,Virtual Event
ATTACH;FMTTYPE=image/jpeg:https://www.biblioasis.com/wp-content/uploads/2025/02/9781771967006_FC.jpg
END:VEVENT
BEGIN:VEVENT
DTSTART;TZID=America/Toronto:20250414T193000
DTEND;TZID=America/Toronto:20250414T210000
DTSTAMP:20260421T085107
CREATED:20250319T170844Z
LAST-MODIFIED:20250328T191604Z
UID:35796-1744659000-1744664400@www.biblioasis.com
SUMMARY:On Book Banning: Flying Books Author Social
DESCRIPTION:Join us in Toronto for an author social at Flying Books\, featuring On Book Banning by Ira Wells! Ira will be in conversation with fellow author Russell Smith. Books will be available for sale and signing. \nThis event will take place on Monday\, April 14 at 7:30 PM. \nMore details here. \nGrab On Book Banning here! \nABOUT ON BOOK BANNING \nThe freedom to read is under attack. \nFrom the destruction of libraries in ancient Rome to today’s state-sponsored efforts to suppress LGBTQ+ literature\, book bans arise from the impulse toward social control. In a survey of legal cases\, literary controversies\, and philosophical arguments\, Ira Wells illustrates the historical opposition to the freedom to read and argues that today’s conservatives and progressives alike are warping our children’s relationship with literature and teaching them that the solution to opposing viewpoints is outright expurgation. At a moment in which our democratic institutions are buckling under the stress of polarization\, On Book Banning is both rallying cry and guide to resistance for those who will always insist upon reading for themselves. \nABOUT IRA WELLS \nIra Wells is a critic\, essayist\, and an associate professor at Victoria College in the University of Toronto\, where he teaches in the Northrop Frye stream in literature and the humanities in the Vic One program. His writing has appeared in The Atlantic\, Globe and Mail\, Guardian\, The New Republic\, and many other venues. His most recent book is Norman Jewison: A Director’s Life. He lives in Toronto with his wife and children.
URL:https://www.biblioasis.com/event/on-book-banning-flying-books/
LOCATION:Flying Books\, 371 Queen St W\, Toronto\, ON\, M5V 2A4\, Canada
CATEGORIES:Book Launch,Discussion
ATTACH;FMTTYPE=image/jpeg:https://www.biblioasis.com/wp-content/uploads/2025/03/Ira-Wells-Author-Social.jpg
END:VEVENT
END:VCALENDAR