BEGIN:VCALENDAR
VERSION:2.0
PRODID:-//Biblioasis - ECPv6.15.20//NONSGML v1.0//EN
CALSCALE:GREGORIAN
METHOD:PUBLISH
X-WR-CALNAME:Biblioasis
X-ORIGINAL-URL:https://www.biblioasis.com
X-WR-CALDESC:Events for Biblioasis
REFRESH-INTERVAL;VALUE=DURATION:PT1H
X-Robots-Tag:noindex
X-PUBLISHED-TTL:PT1H
BEGIN:VTIMEZONE
TZID:America/Halifax
BEGIN:DAYLIGHT
TZOFFSETFROM:-0400
TZOFFSETTO:-0300
TZNAME:ADT
DTSTART:20230312T060000
END:DAYLIGHT
BEGIN:STANDARD
TZOFFSETFROM:-0300
TZOFFSETTO:-0400
TZNAME:AST
DTSTART:20231105T050000
END:STANDARD
BEGIN:DAYLIGHT
TZOFFSETFROM:-0400
TZOFFSETTO:-0300
TZNAME:ADT
DTSTART:20240310T060000
END:DAYLIGHT
BEGIN:STANDARD
TZOFFSETFROM:-0300
TZOFFSETTO:-0400
TZNAME:AST
DTSTART:20241103T050000
END:STANDARD
BEGIN:DAYLIGHT
TZOFFSETFROM:-0400
TZOFFSETTO:-0300
TZNAME:ADT
DTSTART:20250309T060000
END:DAYLIGHT
BEGIN:STANDARD
TZOFFSETFROM:-0300
TZOFFSETTO:-0400
TZNAME:AST
DTSTART:20251102T050000
END:STANDARD
END:VTIMEZONE
BEGIN:VEVENT
DTSTART;TZID=America/Halifax:20241030T170000
DTEND;TZID=America/Halifax:20241030T190000
DTSTAMP:20260419T123947
CREATED:20241025T161801Z
LAST-MODIFIED:20241025T161801Z
UID:34498-1730307600-1730314800@www.biblioasis.com
SUMMARY:Emily Urquhart at Trident Booksellers & Cafe
DESCRIPTION:Emily Urquhart will be reading from her Hilary Weston Writers’ Trust Prize-shortlisted essay collection\, Ordinary Wonder Tales\, at Trident Booksellers & Cafe in Halifax! The reading and conversation is hosted by the Dalhousie Creative Writing Program. There will be an array of treats\, and books will be for sale and signing from King’s Co-op Bookstore. \nThe event will take place on Wednesday\, October 30 at 5PM. \nMore details here. \nGrab Ordinary Wonder Tales here! \nABOUT ORDINARY WONDER TALES \nShortlisted for the 2023 Hilary Weston Writers’ Trust Prize for Nonfiction \nA journalist and folklorist explores the truths that underlie the stories we imagine—and reveals the magic in the everyday. \n“I’ve always felt that the term fairy tale doesn’t quite capture the essence of these stories\,” writes Emily Urquhart. “I prefer the term wonder tale\, which is Irish in origin\, for its suggestion of awe coupled with narrative. In a way\, this is most of our stories.” In this startlingly original essay collection\, Urquhart reveals the truths that underlie our imaginings: what we see in our heads when we read\, how the sight of a ghost can heal\, how the entrance to the underworld can be glimpsed in an oil painting or a winter storm—or the onset of a loved one’s dementia. In essays on death and dying\, pregnancy and prenatal genetics\, radioactivity\, chimeras\, cottagers\, and plague\, Ordinary Wonder Tales reveals the essential truth: if you let yourself look closely\, there is magic in the everyday. \nABOUT EMILY URQUHART \nEmily Urquhart is the author of three books of nonfiction including the essay collection\, Ordinary Wonder Tales\, a finalist for the 2023 Hilary Weston Writers’ Trust Prize for Nonfiction. She has a background in journalism and a doctorate in folklore and draws on both in her writing. She is a five-time National Magazine Award nominee for her journalistic work and has won gold and silver. She lives in Kitchener\, Ontario with her husband and two children where she is a nonfiction editor for The New Quarterly and teaches creative writing and science communication at the University of Waterloo.
URL:https://www.biblioasis.com/event/emily-urquhart-at-trident-booksellers-cafe/
LOCATION:Trident Booksellers & Cafe\, 1256 Hollis Street\, Halifax\, NS\, B3J 1T6\, Canada
CATEGORIES:Discussion,Reading
ATTACH;FMTTYPE=image/jpeg:https://www.biblioasis.com/wp-content/uploads/2024/10/Emily-Urquhart-JPG.jpg
END:VEVENT
END:VCALENDAR